BEGIN:VCALENDAR
VERSION:2.0
PRODID:-//wp-events-plugin.com//7.2.3.1//EN
TZID:America/New_York
X-WR-TIMEZONE:America/New_York
BEGIN:VEVENT
UID:5715@columbiajewish.org
DTSTART;TZID=America/New_York:20241121T203000
DTEND;TZID=America/New_York:20241121T203000
DTSTAMP:20241104T171101Z
URL:https://www.columbiajewish.org/events/danny-kaye/
SUMMARY:Danny Kaye
DESCRIPTION:The amazing John Kenrick is back to introduce to us more famous
  Jewish icons and their contributions to the movie and acting industry.&nb
 sp\; First up is Danny Kaye!\n\nPlease register in advance.&nbsp\; Zoom li
 nk will be shared a few days before each program.\n\n&nbsp\;\n\n\nAbout Jo
 hn Kenrick\n\nJohn served as personal assistant to six Tony-winning produc
 ers\, working on such productions as the Pulitzer Prize-winning hit&nbsp\;
 Rent&nbsp\;and the first revival of&nbsp\;Grease. He also assisted in the 
 management of numerous national tours\, including&nbsp\;Damn Yankees&nbsp\
 ;with Jerry Lewis\,&nbsp\;Crazy for You\,&nbsp\;Victor/Victoria\,&nbsp\;Je
 kyll &amp\; Hyde&nbsp\;and&nbsp\;Busker Alley.\n\nJohn was lyricist for th
 e short-lived but acclaimed Off-Broadway production&nbsp\;Bats\, wrote and
  produced cabaret shows that appeared at The Duplex and The Five Oaks\, an
 d provided special material for performers at Caroline's\, Eighty-Eights\,
  Don't Tell Mama and other top New York clubs. He was Associate Producer f
 or the Celebration '86 Gay Arts Festival\, and worked in various capacitie
 s for The Glines\, The Vineyard Theatre\, PACE Theatrical\, NAMCO\, The Bo
 oking Office and The New York Theatre Workshop.\n\n&nbsp\;
ATTACH;FMTTYPE=image/jpeg:https://www.columbiajewish.org/wp-content/upload
 s/2023/11/JewishImagesInFilm.png
CATEGORIES:Featured Events
END:VEVENT
BEGIN:VTIMEZONE
TZID:America/New_York
X-LIC-LOCATION:America/New_York
BEGIN:STANDARD
DTSTART:20241103T010000
TZOFFSETFROM:-0400
TZOFFSETTO:-0500
TZNAME:EST
END:STANDARD
END:VTIMEZONE
END:VCALENDAR