BEGIN:VCALENDAR
VERSION:2.0
PRODID:-//wp-events-plugin.com//7.2.3.1//EN
TZID:America/New_York
X-WR-TIMEZONE:America/New_York
BEGIN:VEVENT
UID:6446@columbiajewish.org
DTSTART;TZID=America/New_York:20260417T190000
DTEND;TZID=America/New_York:20260417T190000
DTSTAMP:20260416T135606Z
URL:https://www.columbiajewish.org/events/in-person-shabbat-evening-servic
 e-led-by-rabbi-michael-hess-webber-and-cantor-steve-hummel-4-2026-04-17/
SUMMARY:[in-person] Shabbat Evening Service led by Rabbi Michael Hess Webbe
 r and Cantor Linda Baer
DESCRIPTION:During tonight's service we welcome Julie Meyers into the embra
 ce of the Jewish people. May her journey be filled with meaning\, connecti
 on\, and the warmth of community—mazel tov to Julie on this sacred and j
 oyous milestone\n\n&nbsp\;\n\nClick here &nbsp\;to&nbsp\; access our Frida
 y Night Prayerbook\n\nTopic: Virtual Friday Shabbat Evening Service\n\nReg
 ister in advance for Friday Shabbat Evening Services&nbsp\;https://us02web
 .zoom.us/meeting/register/vJYvfumuqjMq4tLHjzVl3wnDH8ADMs2vGg\nAfter regist
 ering\, you will receive a confirmation email containing information about
  joining the services.\n\nPlease note: If you have already registered and 
 received a Friday evening unique link\, no need to register again. If you 
 have misplaced your link\, please email robin@columbiajewish.org
ATTACH;FMTTYPE=image/jpeg:https://www.columbiajewish.org/wp-content/upload
 s/2019/07/celebrateshabbatfriday-1.png
CATEGORIES:Featured Events
END:VEVENT
BEGIN:VTIMEZONE
TZID:America/New_York
X-LIC-LOCATION:America/New_York
BEGIN:DAYLIGHT
DTSTART:20260308T030000
TZOFFSETFROM:-0500
TZOFFSETTO:-0400
TZNAME:EDT
END:DAYLIGHT
END:VTIMEZONE
END:VCALENDAR