BEGIN:VCALENDAR
VERSION:2.0
PRODID:-//wp-events-plugin.com//7.2.3.1//EN
TZID:America/New_York
X-WR-TIMEZONE:America/New_York
BEGIN:VEVENT
UID:5814@columbiajewish.org
DTSTART;TZID=America/New_York:20250103T190000
DTEND;TZID=America/New_York:20250103T190000
DTSTAMP:20241230T234055Z
URL:https://www.columbiajewish.org/events/in-person-shabbirthday-shabbat-e
 vening-service-led-by-rabbi-michael-hess-webber-and-cantor-steve-hummel/
SUMMARY:[in-person] SHABBIRTHDAY!  Shabbat Evening Service led by Rabbi Mic
 hael Hess Webber and Cantor Steve Hummel
DESCRIPTION:ShabBirthday!&nbsp\;On the first Friday of each month\, we gath
 er to welcome in&nbsp\;Shabbat&nbsp\;and also&nbsp\;celebrate the CJCniks 
 who have birthdays. Tonight we celebrate those with Birthdays in January!\
 n\nClick here &nbsp\;to&nbsp\; access our Friday Night Prayerbook\n\nTopic
 : Virtual Friday Shabbat Evening Service\n\nRegister in advance for Friday
  Shabbat Evening Services&nbsp\;https://us02web.zoom.us/meeting/register/v
 JYvfumuqjMq4tLHjzVl3wnDH8ADMs2vGg\nAfter registering\, you will receive a 
 confirmation email containing information about joining the services.\n\nP
 lease note: If you have already registered and received a Friday evening u
 nique link\, no need to register again. If you have misplaced your link\, 
 please email robin@columbiajewish.org
ATTACH;FMTTYPE=image/jpeg:https://www.columbiajewish.org/wp-content/upload
 s/2024/10/shabirtdayGraphic.png
CATEGORIES:Featured Events
END:VEVENT
BEGIN:VTIMEZONE
TZID:America/New_York
X-LIC-LOCATION:America/New_York
BEGIN:STANDARD
DTSTART:20241103T010000
TZOFFSETFROM:-0400
TZOFFSETTO:-0500
TZNAME:EST
END:STANDARD
END:VTIMEZONE
END:VCALENDAR