BEGIN:VCALENDAR
VERSION:2.0
PRODID:-//wp-events-plugin.com//7.2.3.1//EN
TZID:America/New_York
X-WR-TIMEZONE:America/New_York
BEGIN:VEVENT
UID:5708@columbiajewish.org
DTSTART;TZID=America/New_York:20240922T120000
DTEND;TZID=America/New_York:20240922T120000
DTSTAMP:20240916T175313Z
URL:https://www.columbiajewish.org/events/jewish-copenhagen/
SUMMARY:Jewish Copenhagen
DESCRIPTION:Please note new start time: 12:00pm\nNO PASSPORT REQUIRED!\nFor
  Sunday programs\, we will join as a community and stream the&nbsp\;presen
 tation together at The Meeting House. Refreshments will be served.\n\nJoin
  us for this virtual tour of Jewish Copenhagen with Charlotte Thalmy.\n\nC
 harlotte Thalmay\, who is born and raised in Copenhagen is active in the J
 ewish Community. She has a bachelor in tourism from Roskilde University\, 
 and is vice-president in the Zionist Federation. Her son Simon lives in Is
 rael and is currently serving in the army.\n\nThe mission of Jewish Copenh
 agen\, is to bring alive the history of Jewish life in Denmark. All the wa
 y back from 1622\, up to the present with its everyday stories of being a 
 minority in a small country.\n\nPlease register in advance\n\n&nbsp\;\n\n&
 nbsp\;
ATTACH;FMTTYPE=image/jpeg:https://www.columbiajewish.org/wp-content/upload
 s/2024/07/JTS_Part3.png
CATEGORIES:Featured Events
END:VEVENT
BEGIN:VTIMEZONE
TZID:America/New_York
X-LIC-LOCATION:America/New_York
BEGIN:DAYLIGHT
DTSTART:20240310T030000
TZOFFSETFROM:-0500
TZOFFSETTO:-0400
TZNAME:EDT
END:DAYLIGHT
END:VTIMEZONE
END:VCALENDAR