BEGIN:VCALENDAR
VERSION:2.0
PRODID:-//wp-events-plugin.com//7.2.3.1//EN
TZID:America/New_York
X-WR-TIMEZONE:America/New_York
BEGIN:VEVENT
UID:4980@columbiajewish.org
DTSTART;TZID=America/New_York:20230924T110000
DTEND;TZID=America/New_York:20230924T110000
DTSTAMP:20230817T191342Z
URL:https://www.columbiajewish.org/events/kever-avot-remembrance-service/
SUMMARY:Kever Avot - Remembrance Service
DESCRIPTION:Led by Cantor Jan Morrison\n\nKever Avot is the Jewish traditio
 n of visiting&nbsp\;the graves of our loved ones during the&nbsp\;High Hol
 y Day season. The tradition helps us show cavod (honor) to the dead while 
 helping to reconnect us to meaningful and mindful living.\n\nColumbia Memo
 rial Park\n12005 Clarksville Pike\, Clarksville\n\n&nbsp\;
ATTACH;FMTTYPE=image/jpeg:https://www.columbiajewish.org/wp-content/upload
 s/2022/08/kever-avot.png
CATEGORIES:Featured Events
END:VEVENT
BEGIN:VTIMEZONE
TZID:America/New_York
X-LIC-LOCATION:America/New_York
BEGIN:DAYLIGHT
DTSTART:20230312T030000
TZOFFSETFROM:-0500
TZOFFSETTO:-0400
TZNAME:EDT
END:DAYLIGHT
END:VTIMEZONE
END:VCALENDAR