BEGIN:VCALENDAR
VERSION:2.0
PRODID:-//wp-events-plugin.com//7.2.3.1//EN
TZID:America/New_York
X-WR-TIMEZONE:America/New_York
BEGIN:VEVENT
UID:6284@columbiajewish.org
DTSTART;TZID=America/New_York:20251123T130000
DTEND;TZID=America/New_York:20251123T130000
DTSTAMP:20250907T233742Z
URL:https://www.columbiajewish.org/events/the-shtetl-2/
SUMMARY:A Virtual Tour of the Once Jewish Towns of Eastern Europe
DESCRIPTION:with Evgenia Kempinski\n\nWe will visit selected shtetls from a
 ll ends of Eastern Europe - Poland\, Lithuania\, Ukraine\, and Belarus. We
  will walk down their old streets\, look at the Jewish homes\, and see how
  general shtetl features are reflected in these particular towns. We will 
 discuss the relations between Jews and Christians\, as well as the politic
 al and social life in these shtetls. We will see how shtetl life changed o
 ver the centuries. Combining old and new photographs and people's memoirs 
 we will travel through time to imagine and understand the life of our ance
 stors.\n\nPlease register in advance to receive Zoom link\n\n
ATTACH;FMTTYPE=image/jpeg:https://www.columbiajewish.org/wp-content/upload
 s/2025/09/JewishShtetl800x533.png
CATEGORIES:Featured Events
END:VEVENT
BEGIN:VTIMEZONE
TZID:America/New_York
X-LIC-LOCATION:America/New_York
BEGIN:STANDARD
DTSTART:20251102T010000
TZOFFSETFROM:-0400
TZOFFSETTO:-0500
TZNAME:EST
END:STANDARD
END:VTIMEZONE
END:VCALENDAR